BEGIN:VCALENDAR
VERSION:2.0
PRODID:-//Golddorf Hommersum - ECPv6.15.17.1//NONSGML v1.0//EN
CALSCALE:GREGORIAN
METHOD:PUBLISH
X-WR-CALNAME:Golddorf Hommersum
X-ORIGINAL-URL:https://hommersum.de
X-WR-CALDESC:Evenementen voor Golddorf Hommersum
REFRESH-INTERVAL;VALUE=DURATION:PT1H
X-Robots-Tag:noindex
X-PUBLISHED-TTL:PT1H
BEGIN:VTIMEZONE
TZID:Europe/Berlin
BEGIN:DAYLIGHT
TZOFFSETFROM:+0100
TZOFFSETTO:+0200
TZNAME:CEST
DTSTART:20240331T010000
END:DAYLIGHT
BEGIN:STANDARD
TZOFFSETFROM:+0200
TZOFFSETTO:+0100
TZNAME:CET
DTSTART:20241027T010000
END:STANDARD
BEGIN:DAYLIGHT
TZOFFSETFROM:+0100
TZOFFSETTO:+0200
TZNAME:CEST
DTSTART:20250330T010000
END:DAYLIGHT
BEGIN:STANDARD
TZOFFSETFROM:+0200
TZOFFSETTO:+0100
TZNAME:CET
DTSTART:20251026T010000
END:STANDARD
BEGIN:DAYLIGHT
TZOFFSETFROM:+0100
TZOFFSETTO:+0200
TZNAME:CEST
DTSTART:20260329T010000
END:DAYLIGHT
BEGIN:STANDARD
TZOFFSETFROM:+0200
TZOFFSETTO:+0100
TZNAME:CET
DTSTART:20261025T010000
END:STANDARD
END:VTIMEZONE
BEGIN:VEVENT
DTSTART;TZID=Europe/Berlin:20250907T190000
DTEND;TZID=Europe/Berlin:20250907T210000
DTSTAMP:20260422T174742
CREATED:20241222T170722Z
LAST-MODIFIED:20250825T074025Z
UID:7852-1757271600-1757278800@hommersum.de
SUMMARY:Verkiezing Oogstkoning
DESCRIPTION:De oogstkoningverkiezing van de HVV Hommersum vindt dit jaar plaats op zondag 7 september om 19.00 uur in het dorpshuis “Bei Regi”.\nEen voorstel voor de oogstkoningverkiezing kunt u in de Kingbox of in de HVV-brievenbus (aan de Alte Schule) tot 1 september 2025 indienen. Dit jaar staat in het dorpshuis “Bei Regi”.\nOp de avond van de verkiezingen is het alleen mogelijk om jezelf verkiesbaar te stellen. \nVooraf\, vanaf ongeveer 18 uur\, wordt de film over het oogstfeest 2024 in de kleine zaal van het dorpshuis getoond.
URL:https://hommersum.de/nl/evenement/verkiezing-oogstkoning-25/
LOCATION:Alte Schule Hommersum\, Küsterskamp 21\, Goch\, 47574\, Deutschland
CATEGORIES:HVV Hommersum,Versammlung
END:VEVENT
END:VCALENDAR