BEGIN:VCALENDAR
VERSION:2.0
PRODID:-//Golddorf Hommersum - ECPv6.15.17.1//NONSGML v1.0//EN
CALSCALE:GREGORIAN
METHOD:PUBLISH
X-WR-CALNAME:Golddorf Hommersum
X-ORIGINAL-URL:https://hommersum.de
X-WR-CALDESC:Evenementen voor Golddorf Hommersum
REFRESH-INTERVAL;VALUE=DURATION:PT1H
X-Robots-Tag:noindex
X-PUBLISHED-TTL:PT1H
BEGIN:VTIMEZONE
TZID:Europe/Berlin
BEGIN:DAYLIGHT
TZOFFSETFROM:+0100
TZOFFSETTO:+0200
TZNAME:CEST
DTSTART:20230326T010000
END:DAYLIGHT
BEGIN:STANDARD
TZOFFSETFROM:+0200
TZOFFSETTO:+0100
TZNAME:CET
DTSTART:20231029T010000
END:STANDARD
BEGIN:DAYLIGHT
TZOFFSETFROM:+0100
TZOFFSETTO:+0200
TZNAME:CEST
DTSTART:20240331T010000
END:DAYLIGHT
BEGIN:STANDARD
TZOFFSETFROM:+0200
TZOFFSETTO:+0100
TZNAME:CET
DTSTART:20241027T010000
END:STANDARD
BEGIN:DAYLIGHT
TZOFFSETFROM:+0100
TZOFFSETTO:+0200
TZNAME:CEST
DTSTART:20250330T010000
END:DAYLIGHT
BEGIN:STANDARD
TZOFFSETFROM:+0200
TZOFFSETTO:+0100
TZNAME:CET
DTSTART:20251026T010000
END:STANDARD
END:VTIMEZONE
BEGIN:VEVENT
DTSTART;TZID=Europe/Berlin:20240901T190000
DTEND;TZID=Europe/Berlin:20240901T190000
DTSTAMP:20260423T133039
CREATED:20231212T162829Z
LAST-MODIFIED:20240825T171335Z
UID:6869-1725217200-1725217200@hommersum.de
SUMMARY:Verkiezing Oogstkoning
DESCRIPTION:De oogstkoningverkiezing van de HVV Hommersum vindt dit jaar plaats op zondag 1 september om 19.00 uur in de Gaststätte Evers.\nEen voorstel voor de oogstkoningverkiezing kunt u in de Kingbox of in de HVV-brievenbus (aan de Alte Schule) tot 27 augustus 2024 indienen. Dit jaar staat de Kingbox in de kerk.\nOp de avond van de verkiezingen is het alleen mogelijk om jezelf verkiesbaar te stellen.
URL:https://hommersum.de/nl/evenement/verkiezing-oogstkoning-24/
LOCATION:Gaststätte Regi Evers\, Huyskensstraße 34\, Goch\, 47575
CATEGORIES:Versammlung
END:VEVENT
END:VCALENDAR