BEGIN:VCALENDAR
VERSION:2.0
PRODID:-//Golddorf Hommersum - ECPv6.15.17.1//NONSGML v1.0//EN
CALSCALE:GREGORIAN
METHOD:PUBLISH
X-ORIGINAL-URL:https://hommersum.de
X-WR-CALDESC:Evenementen voor Golddorf Hommersum
REFRESH-INTERVAL;VALUE=DURATION:PT1H
X-Robots-Tag:noindex
X-PUBLISHED-TTL:PT1H
BEGIN:VTIMEZONE
TZID:Europe/Berlin
BEGIN:DAYLIGHT
TZOFFSETFROM:+0100
TZOFFSETTO:+0200
TZNAME:CEST
DTSTART:20240331T010000
END:DAYLIGHT
BEGIN:STANDARD
TZOFFSETFROM:+0200
TZOFFSETTO:+0100
TZNAME:CET
DTSTART:20241027T010000
END:STANDARD
BEGIN:DAYLIGHT
TZOFFSETFROM:+0100
TZOFFSETTO:+0200
TZNAME:CEST
DTSTART:20250330T010000
END:DAYLIGHT
BEGIN:STANDARD
TZOFFSETFROM:+0200
TZOFFSETTO:+0100
TZNAME:CET
DTSTART:20251026T010000
END:STANDARD
BEGIN:DAYLIGHT
TZOFFSETFROM:+0100
TZOFFSETTO:+0200
TZNAME:CEST
DTSTART:20260329T010000
END:DAYLIGHT
BEGIN:STANDARD
TZOFFSETFROM:+0200
TZOFFSETTO:+0100
TZNAME:CET
DTSTART:20261025T010000
END:STANDARD
END:VTIMEZONE
BEGIN:VEVENT
DTSTART;TZID=Europe/Berlin:20251231T220000
DTEND;TZID=Europe/Berlin:20251231T235900
DTSTAMP:20260424T205537
CREATED:20251201T122036Z
LAST-MODIFIED:20251201T122036Z
UID:8704-1767218400-1767225540@hommersum.de
SUMMARY:Oudejaarsfeest
DESCRIPTION:Laten we samen afscheid nemen van het oude jaar en het nieuwe verwelkomen!\nVersnaperingen\, zoals drankjes\, heerlijke hapjes en middernachtsoep\, worden verzorgd.\nWe kijken uit naar een fijne avond met jullie!\nDe dorpsvereniging Hommersum
URL:https://hommersum.de/nl/evenement/silvesterparty/
LOCATION:Gaststätte Regi Evers\, Huyskensstraße 34\, Goch\, 47575
CATEGORIES:Fest
ATTACH;FMTTYPE=image/jpeg:https://hommersum.de/wp-content/uploads/2025/12/Solvester-Party-2025.jpg
END:VEVENT
END:VCALENDAR