BEGIN:VCALENDAR
VERSION:2.0
PRODID:-//Golddorf Hommersum - ECPv6.15.17.1//NONSGML v1.0//EN
CALSCALE:GREGORIAN
METHOD:PUBLISH
X-WR-CALNAME:Golddorf Hommersum
X-ORIGINAL-URL:https://hommersum.de
X-WR-CALDESC:Evenementen voor Golddorf Hommersum
REFRESH-INTERVAL;VALUE=DURATION:PT1H
X-Robots-Tag:noindex
X-PUBLISHED-TTL:PT1H
BEGIN:VTIMEZONE
TZID:Europe/Berlin
BEGIN:DAYLIGHT
TZOFFSETFROM:+0100
TZOFFSETTO:+0200
TZNAME:CEST
DTSTART:20240331T010000
END:DAYLIGHT
BEGIN:STANDARD
TZOFFSETFROM:+0200
TZOFFSETTO:+0100
TZNAME:CET
DTSTART:20241027T010000
END:STANDARD
BEGIN:DAYLIGHT
TZOFFSETFROM:+0100
TZOFFSETTO:+0200
TZNAME:CEST
DTSTART:20250330T010000
END:DAYLIGHT
BEGIN:STANDARD
TZOFFSETFROM:+0200
TZOFFSETTO:+0100
TZNAME:CET
DTSTART:20251026T010000
END:STANDARD
BEGIN:DAYLIGHT
TZOFFSETFROM:+0100
TZOFFSETTO:+0200
TZNAME:CEST
DTSTART:20260329T010000
END:DAYLIGHT
BEGIN:STANDARD
TZOFFSETFROM:+0200
TZOFFSETTO:+0100
TZNAME:CET
DTSTART:20261025T010000
END:STANDARD
END:VTIMEZONE
BEGIN:VEVENT
DTSTART;TZID=Europe/Berlin:20251107T160000
DTEND;TZID=Europe/Berlin:20251107T180000
DTSTAMP:20260424T223151
CREATED:20241222T173014Z
LAST-MODIFIED:20241222T173040Z
UID:7864-1762531200-1762538400@hommersum.de
SUMMARY:HVV: Koffie en gebak jubilarissen
DESCRIPTION:
URL:https://hommersum.de/nl/evenement/hvv-koffie-en-gebak-jubilarissen-25/
CATEGORIES:Fest,HVV Hommersum
END:VEVENT
BEGIN:VEVENT
DTSTART;TZID=Europe/Berlin:20251107T180000
DTEND;TZID=Europe/Berlin:20251107T180000
DTSTAMP:20260424T223151
CREATED:20250224T173133Z
LAST-MODIFIED:20250224T173133Z
UID:8116-1762538400-1762538400@hommersum.de
SUMMARY:St. Martinsoptocht
DESCRIPTION:
URL:https://hommersum.de/nl/evenement/st-martinsumzug/
LOCATION:Hommersum
CATEGORIES:Fest
END:VEVENT
END:VCALENDAR