BEGIN:VCALENDAR
VERSION:2.0
PRODID:-//Golddorf Hommersum - ECPv6.15.17.1//NONSGML v1.0//EN
CALSCALE:GREGORIAN
METHOD:PUBLISH
X-ORIGINAL-URL:https://hommersum.de
X-WR-CALDESC:Evenementen voor Golddorf Hommersum
REFRESH-INTERVAL;VALUE=DURATION:PT1H
X-Robots-Tag:noindex
X-PUBLISHED-TTL:PT1H
BEGIN:VTIMEZONE
TZID:Europe/Berlin
BEGIN:DAYLIGHT
TZOFFSETFROM:+0100
TZOFFSETTO:+0200
TZNAME:CEST
DTSTART:20230326T010000
END:DAYLIGHT
BEGIN:STANDARD
TZOFFSETFROM:+0200
TZOFFSETTO:+0100
TZNAME:CET
DTSTART:20231029T010000
END:STANDARD
BEGIN:DAYLIGHT
TZOFFSETFROM:+0100
TZOFFSETTO:+0200
TZNAME:CEST
DTSTART:20240331T010000
END:DAYLIGHT
BEGIN:STANDARD
TZOFFSETFROM:+0200
TZOFFSETTO:+0100
TZNAME:CET
DTSTART:20241027T010000
END:STANDARD
BEGIN:DAYLIGHT
TZOFFSETFROM:+0100
TZOFFSETTO:+0200
TZNAME:CEST
DTSTART:20250330T010000
END:DAYLIGHT
BEGIN:STANDARD
TZOFFSETFROM:+0200
TZOFFSETTO:+0100
TZNAME:CET
DTSTART:20251026T010000
END:STANDARD
END:VTIMEZONE
BEGIN:VEVENT
DTSTART;TZID=Europe/Berlin:20240430T183000
DTEND;TZID=Europe/Berlin:20240430T183000
DTSTAMP:20260424T135119
CREATED:20240129T121742Z
LAST-MODIFIED:20240422T072148Z
UID:6977-1714501800-1714501800@hommersum.de
SUMMARY:Meiboom opzetten
DESCRIPTION:Meiboom opzetten met prijsuitreiking van schieten Hommersumer verenigingen.
URL:https://hommersum.de/nl/evenement/meiboom-opzetten-24/
LOCATION:Alte Schule Hommersum\, Küsterskamp 21\, Goch\, 47574\, Deutschland
CATEGORIES:Fest
ATTACH;FMTTYPE=image/jpeg:https://hommersum.de/wp-content/uploads/2024/01/Maibaum-2024-Siegerehrung-1.jpg
ORGANIZER;CN="Schie%C3%9Fclub Hommersum 1954 e.V.":MAILTO:ch.toe@t-online.de
END:VEVENT
END:VCALENDAR