BEGIN:VCALENDAR
VERSION:2.0
PRODID:-//Golddorf Hommersum - ECPv6.15.17.1//NONSGML v1.0//EN
CALSCALE:GREGORIAN
METHOD:PUBLISH
X-WR-CALNAME:Golddorf Hommersum
X-ORIGINAL-URL:https://hommersum.de
X-WR-CALDESC:Evenementen voor Golddorf Hommersum
REFRESH-INTERVAL;VALUE=DURATION:PT1H
X-Robots-Tag:noindex
X-PUBLISHED-TTL:PT1H
BEGIN:VTIMEZONE
TZID:Europe/Berlin
BEGIN:DAYLIGHT
TZOFFSETFROM:+0100
TZOFFSETTO:+0200
TZNAME:CEST
DTSTART:20220327T010000
END:DAYLIGHT
BEGIN:STANDARD
TZOFFSETFROM:+0200
TZOFFSETTO:+0100
TZNAME:CET
DTSTART:20221030T010000
END:STANDARD
BEGIN:DAYLIGHT
TZOFFSETFROM:+0100
TZOFFSETTO:+0200
TZNAME:CEST
DTSTART:20230326T010000
END:DAYLIGHT
BEGIN:STANDARD
TZOFFSETFROM:+0200
TZOFFSETTO:+0100
TZNAME:CET
DTSTART:20231029T010000
END:STANDARD
BEGIN:DAYLIGHT
TZOFFSETFROM:+0100
TZOFFSETTO:+0200
TZNAME:CEST
DTSTART:20240331T010000
END:DAYLIGHT
BEGIN:STANDARD
TZOFFSETFROM:+0200
TZOFFSETTO:+0100
TZNAME:CET
DTSTART:20241027T010000
END:STANDARD
END:VTIMEZONE
BEGIN:VEVENT
DTSTART;TZID=Europe/Berlin:20231201T191100
DTEND;TZID=Europe/Berlin:20231201T191100
DTSTAMP:20260424T175019
CREATED:20231119T173017Z
LAST-MODIFIED:20231119T173017Z
UID:6740-1701457860-1701457860@hommersum.de
SUMMARY:Karnaval zonder grenzen
DESCRIPTION:
URL:https://hommersum.de/nl/evenement/karnaval-zonder-grenzen/
LOCATION:Gaststätte Regi Evers\, Huyskensstraße 34\, Goch\, 47575
CATEGORIES:Fest
END:VEVENT
BEGIN:VEVENT
DTSTART;TZID=Europe/Berlin:20231231T190000
DTEND;TZID=Europe/Berlin:20231231T190000
DTSTAMP:20260424T175019
CREATED:20231216T120856Z
LAST-MODIFIED:20231216T120856Z
UID:6907-1704049200-1704049200@hommersum.de
SUMMARY:Oudjaarsfeest 2023
DESCRIPTION:
URL:https://hommersum.de/nl/evenement/oudjaarsfeest-2023/
LOCATION:Gaststätte Regi Evers\, Huyskensstraße 34\, Goch\, 47575
CATEGORIES:Fest
ATTACH;FMTTYPE=image/jpeg:https://hommersum.de/wp-content/uploads/2023/12/Silvesterparty-2023-Gaststaette-Evers.jpg
END:VEVENT
END:VCALENDAR