BEGIN:VCALENDAR
VERSION:2.0
PRODID:-//Golddorf Hommersum - ECPv6.15.17.1//NONSGML v1.0//EN
CALSCALE:GREGORIAN
METHOD:PUBLISH
X-WR-CALNAME:Golddorf Hommersum
X-ORIGINAL-URL:https://hommersum.de
X-WR-CALDESC:Evenementen voor Golddorf Hommersum
REFRESH-INTERVAL;VALUE=DURATION:PT1H
X-Robots-Tag:noindex
X-PUBLISHED-TTL:PT1H
BEGIN:VTIMEZONE
TZID:Europe/Paris
BEGIN:DAYLIGHT
TZOFFSETFROM:+0100
TZOFFSETTO:+0200
TZNAME:CEST
DTSTART:20220327T010000
END:DAYLIGHT
BEGIN:STANDARD
TZOFFSETFROM:+0200
TZOFFSETTO:+0100
TZNAME:CET
DTSTART:20221030T010000
END:STANDARD
BEGIN:DAYLIGHT
TZOFFSETFROM:+0100
TZOFFSETTO:+0200
TZNAME:CEST
DTSTART:20230326T010000
END:DAYLIGHT
BEGIN:STANDARD
TZOFFSETFROM:+0200
TZOFFSETTO:+0100
TZNAME:CET
DTSTART:20231029T010000
END:STANDARD
BEGIN:DAYLIGHT
TZOFFSETFROM:+0100
TZOFFSETTO:+0200
TZNAME:CEST
DTSTART:20240331T010000
END:DAYLIGHT
BEGIN:STANDARD
TZOFFSETFROM:+0200
TZOFFSETTO:+0100
TZNAME:CET
DTSTART:20241027T010000
END:STANDARD
END:VTIMEZONE
BEGIN:VEVENT
DTSTART;TZID=Europe/Paris:20230903T190000
DTEND;TZID=Europe/Paris:20230903T190000
DTSTAMP:20260424T223628
CREATED:20230818T094639Z
LAST-MODIFIED:20230902T092010Z
UID:6334-1693767600-1693767600@hommersum.de
SUMMARY:Verkiezing Oogstkoning
DESCRIPTION:De verkiezing van de oogstkoning van Hommersum vindt dit jaar op zondag 3 september om 19.00 uur in de Gaststätte Evers plaats. \nU kunt tot 27 augustus 2022 een kandidaat voor de verkiezing van de oogstkoning bij Regi in de Kingbox of bij een bestuurslid indienen. Op de avond van de verkiezing is het alleen mogelijk om zelf verkiesbaar te zijn. \nNa de verkiezing wordt de film over het oogstfeest in 2022 getoond.
URL:https://hommersum.de/nl/evenement/verkiezing-oogstkoning23/
LOCATION:Gaststätte Regi Evers\, Huyskensstraße 34\, Goch\, 47575
CATEGORIES:Fest,HVV Hommersum
END:VEVENT
BEGIN:VEVENT
DTSTART;TZID=Europe/Paris:20230916T150000
DTEND;TZID=Europe/Paris:20230916T235900
DTSTAMP:20260424T223628
CREATED:20230516T143346Z
LAST-MODIFIED:20230911T154222Z
UID:5837-1694876400-1694908740@hommersum.de
SUMMARY:Feest 10 jaar Trägerverein Alte Schule Hommersum
DESCRIPTION:Programma (in het Duits)
URL:https://hommersum.de/nl/evenement/feest-10-jaar-tragerverein-alte-schule-hommersum/
LOCATION:Alte Schule Hommersum\, Küsterskamp 21\, Goch\, 47574\, Deutschland
CATEGORIES:Fest
ATTACH;FMTTYPE=image/jpeg:https://hommersum.de/wp-content/uploads/2021/01/Traegerverein-Alte-Schule-Hommersum.jpg
END:VEVENT
BEGIN:VEVENT
DTSTART;VALUE=DATE:20230930
DTEND;VALUE=DATE:20231002
DTSTAMP:20260424T223628
CREATED:20230206T140524Z
LAST-MODIFIED:20230919T155438Z
UID:5552-1696032000-1696204799@hommersum.de
SUMMARY:Kermisweekend
DESCRIPTION:
URL:https://hommersum.de/nl/evenement/kermisweekend-2/
LOCATION:Hommersum
CATEGORIES:Fest,HVV Hommersum
ATTACH;FMTTYPE=image/jpeg:https://hommersum.de/wp-content/uploads/2023/02/Flyer_Kirmes_2023_klein-1.jpg
END:VEVENT
END:VCALENDAR