BEGIN:VCALENDAR
VERSION:2.0
PRODID:-//Golddorf Hommersum - ECPv6.15.17.1//NONSGML v1.0//EN
CALSCALE:GREGORIAN
METHOD:PUBLISH
X-ORIGINAL-URL:https://hommersum.de
X-WR-CALDESC:Evenementen voor Golddorf Hommersum
REFRESH-INTERVAL;VALUE=DURATION:PT1H
X-Robots-Tag:noindex
X-PUBLISHED-TTL:PT1H
BEGIN:VTIMEZONE
TZID:Europe/Paris
BEGIN:DAYLIGHT
TZOFFSETFROM:+0100
TZOFFSETTO:+0200
TZNAME:CEST
DTSTART:20220327T010000
END:DAYLIGHT
BEGIN:STANDARD
TZOFFSETFROM:+0200
TZOFFSETTO:+0100
TZNAME:CET
DTSTART:20221030T010000
END:STANDARD
BEGIN:DAYLIGHT
TZOFFSETFROM:+0100
TZOFFSETTO:+0200
TZNAME:CEST
DTSTART:20230326T010000
END:DAYLIGHT
BEGIN:STANDARD
TZOFFSETFROM:+0200
TZOFFSETTO:+0100
TZNAME:CET
DTSTART:20231029T010000
END:STANDARD
BEGIN:DAYLIGHT
TZOFFSETFROM:+0100
TZOFFSETTO:+0200
TZNAME:CEST
DTSTART:20240331T010000
END:DAYLIGHT
BEGIN:STANDARD
TZOFFSETFROM:+0200
TZOFFSETTO:+0100
TZNAME:CET
DTSTART:20241027T010000
END:STANDARD
END:VTIMEZONE
BEGIN:VEVENT
DTSTART;TZID=Europe/Paris:20230701T190000
DTEND;TZID=Europe/Paris:20230701T190000
DTSTAMP:20260425T014542
CREATED:20230623T143429Z
LAST-MODIFIED:20230731T142440Z
UID:6035-1688238000-1688238000@hommersum.de
SUMMARY:Rock zonder grenzen
DESCRIPTION:Sheer Lunacy – dit zijn 4 ervaren muzikanten met verschillende achtergronden die zich sinds begin 2010 in deze formatie hebben toegelegd op classic rock covers. Bewust en geheel tegen de trend in doen ze het zonder keyboards om de nummers in hun setlist een tot de essentie teruggebracht eerlijk tintje te geven. \nDe geïnteresseerde toeschouwer krijgt dus niet lusteloos bekende hits voorgeworpen\, maar kan zich ook verheugen op liedparels met “veeleisend gitaarwerk”. Naast het standaardrepertoire krijg je ook titels te horen die waarschijnlijk nog niet zo vaak door een coverband gespeeld zijn. \nOppervlakkige hitparadesuccessen en weinig spectaculaire pop- en dansmuziek zoek je dus tevergeefs in het programma van deze regionale band. Veel meer kun je je in plaats daarvan instellen op mooie harde gitaarsolo’s. Daarom\, laat je haar indien mogelijk terug groeien en haal je geliefde oude outfit weer van de zolder! \nDe enige voorwaarde voor een geslaagd evenement met Sheer Lunacy is dat je van de klassiekers uit de rockgeschiedenis van de laatste 30 tot 40 jaar houdt en geen typische top 40-formatie verwacht.
URL:https://hommersum.de/nl/evenement/rock-zonder-grenzen/
LOCATION:Gaststätte Regi Evers\, Huyskensstraße 34\, Goch\, 47575
CATEGORIES:Fest
ATTACH;FMTTYPE=image/jpeg:https://hommersum.de/wp-content/uploads/2023/06/20230701-Rock-ohne-Grenze-Hommersum.jpg
END:VEVENT
BEGIN:VEVENT
DTSTART;TZID=Europe/Paris:20230708T140000
DTEND;TZID=Europe/Paris:20230708T173000
DTSTAMP:20260425T014542
CREATED:20230307T104117Z
LAST-MODIFIED:20230516T100748Z
UID:5684-1688824800-1688837400@hommersum.de
SUMMARY:Duitse dag SumMmertime
DESCRIPTION:Programma: https://www.summmertimegennep.com/programma/duitse-dag/
URL:https://hommersum.de/nl/evenement/duitse-dag-summmertime/
LOCATION:Markt Gennep\, Markt\, Gennep\, 6591BZ\, Niederlande
CATEGORIES:Fest
ATTACH;FMTTYPE=image/png:https://hommersum.de/wp-content/uploads/2019/06/summmertimegennep.png
ORGANIZER;CN="SumMmertime":MAILTO:info@summmertimegennep.com
END:VEVENT
END:VCALENDAR