BEGIN:VCALENDAR
VERSION:2.0
PRODID:-//Golddorf Hommersum - ECPv6.15.17.1//NONSGML v1.0//EN
CALSCALE:GREGORIAN
METHOD:PUBLISH
X-ORIGINAL-URL:https://hommersum.de
X-WR-CALDESC:Evenementen voor Golddorf Hommersum
REFRESH-INTERVAL;VALUE=DURATION:PT1H
X-Robots-Tag:noindex
X-PUBLISHED-TTL:PT1H
BEGIN:VTIMEZONE
TZID:Europe/Paris
BEGIN:DAYLIGHT
TZOFFSETFROM:+0100
TZOFFSETTO:+0200
TZNAME:CEST
DTSTART:20220327T010000
END:DAYLIGHT
BEGIN:STANDARD
TZOFFSETFROM:+0200
TZOFFSETTO:+0100
TZNAME:CET
DTSTART:20221030T010000
END:STANDARD
BEGIN:DAYLIGHT
TZOFFSETFROM:+0100
TZOFFSETTO:+0200
TZNAME:CEST
DTSTART:20230326T010000
END:DAYLIGHT
BEGIN:STANDARD
TZOFFSETFROM:+0200
TZOFFSETTO:+0100
TZNAME:CET
DTSTART:20231029T010000
END:STANDARD
BEGIN:DAYLIGHT
TZOFFSETFROM:+0100
TZOFFSETTO:+0200
TZNAME:CEST
DTSTART:20240331T010000
END:DAYLIGHT
BEGIN:STANDARD
TZOFFSETFROM:+0200
TZOFFSETTO:+0100
TZNAME:CET
DTSTART:20241027T010000
END:STANDARD
END:VTIMEZONE
BEGIN:VEVENT
DTSTART;TZID=Europe/Paris:20230505T113000
DTEND;TZID=Europe/Paris:20230505T120000
DTSTAMP:20260425T050259
CREATED:20230425T130008Z
LAST-MODIFIED:20230429T132836Z
UID:5814-1683286200-1683288000@hommersum.de
SUMMARY:Estafetteloop Bevrijdingsvuur
DESCRIPTION:Op 05 mei ter herdenking aan de bevrijding van “Nazi-Duitsland” vindt een door “Wageningen 45” georganiseerde estafetteloop plaats. Het doel van de estafetteloop is om met teams van lopers\, het symbolische Bevrijdingsvuur naar alle delen van Nederland te brengen. Ook de twee gemeenten Gennep en Goch zijn voor een van de teams als tussenbestemming in de route opgenomen. Precies op de grens tussen Gennep en Goch maken de estafettelopers een tussenstop om het bevrijdingsvuur op het plein voor de Gaststätte Evers te ontsteken. Daar worden ze begroet door de kinderen van de Kindergarten Hommersum. \nOp basis van de huidige planning wordt verwacht\, dat de lopers rond 11.30 uur in Hommersum arriveren. Na het ontsteken van het bevrijdingsvuur zullen burgemeester Teunissen en Katharina Pleines als locoburgemeester van Goch enkele woorden spreken. \nRond 12 uur gaan de lopers verder richting Nieuw-Bergen. \nWij (de Stadt Goch\, de gemeente Gennep en de HVV) nodigen jullie hartelijk uit om erbij te zijn! \nMeer informatie op: Wageningen45.nl\nen in het magazine Topic Maasduinen \nEeen aankonsiging stond op 29 april in de Niederrhein Nachrichten op pagina 2: „Befreiungsfeuer erreicht am Freitag auch Weeze“.
URL:https://hommersum.de/nl/evenement/estafetteloop-bevrijdingsvuur/
LOCATION:Hommersum Marktplatz\, Huyskenstrasse 34\, Hommersum\, 47574\, Deutschland
CATEGORIES:Extern,Fest
ORGANIZER;CN="Stadt Goch":MAILTO:info@goch.de
END:VEVENT
BEGIN:VEVENT
DTSTART;VALUE=DATE:20230526
DTEND;VALUE=DATE:20230530
DTSTAMP:20260425T050259
CREATED:20230109T162922Z
LAST-MODIFIED:20230201T124930Z
UID:5495-1685059200-1685404799@hommersum.de
SUMMARY:Treckerfreunde: 13. Oldtimer Traktorenfeest
DESCRIPTION:
URL:https://hommersum.de/nl/evenement/treckerfreunde-13-oldtimer-traktorenfeest/
LOCATION:Graefenthal\, Maasstraße 50\, Goch\, 47574\, Deutschland
CATEGORIES:Fest
ATTACH;FMTTYPE=image/jpeg:https://hommersum.de/wp-content/uploads/2023/01/Treckertreffen-Mai-2023_5684487250773943438_n-1.jpg
END:VEVENT
END:VCALENDAR